BEGIN:VCALENDAR
VERSION:2.0
PRODID:-//185.158.164.61//NONSGML kigkonsult.se iCalcreator 2.20//
CALSCALE:GREGORIAN
METHOD:PUBLISH
X-WR-TIMEZONE:UTC
BEGIN:VEVENT
UID:event847@Ecoduurzaam, duurzaam leven, groen genieten
DTSTAMP:20260421T095024Z
CATEGORIES:boerenmarkt\, biologische markt
DESCRIPTION:Boerenmarkt\nCategorie: boerenmarkt\, biologische markt\nLink: 
 https://www.ecoduurzaam.nl/index.php?option=com_jem&view=event&id=847:boer
 enmarkt\n
DTSTART:20260422T100000Z
DTEND:20260422T180000Z
LOCATION:Lange Voorhout\,Lange Voorhout\,Den Haag\,Netherlands
SUMMARY:Boerenmarkt
URL:https://www.ecoduurzaam.nl/index.php?option=com_jem&view=event&id=847:b
 oerenmarkt
END:VEVENT
BEGIN:VEVENT
UID:event858@Ecoduurzaam, duurzaam leven, groen genieten
DTSTAMP:20260421T095024Z
CATEGORIES:boerenmarkt\, biologische markt
DESCRIPTION:Boerenmarkt\nCategorie: boerenmarkt\, biologische markt\nLink: 
 https://www.ecoduurzaam.nl/index.php?option=com_jem&view=event&id=858:boer
 enmarkt\n
DTSTART:20260429T100000Z
DTEND:20260429T180000Z
LOCATION:Lange Voorhout\,Lange Voorhout\,Den Haag\,Netherlands
SUMMARY:Boerenmarkt
URL:https://www.ecoduurzaam.nl/index.php?option=com_jem&view=event&id=858:b
 oerenmarkt
END:VEVENT
END:VCALENDAR