BEGIN:VCALENDAR
VERSION:2.0
PRODID:-//185.158.164.61//NONSGML kigkonsult.se iCalcreator 2.20//
CALSCALE:GREGORIAN
METHOD:PUBLISH
X-WR-TIMEZONE:UTC
BEGIN:VEVENT
UID:event1742@Ecoduurzaam, duurzaam leven, groen genieten
DTSTAMP:20260420T205453Z
CATEGORIES:Kledingruil
DESCRIPTION:Earth Day Clothing Swap by The Swap Club\nCategorie: Kledingrui
 l\nLink: https://www.ecoduurzaam.nl/index.php?option=com_jem&view=event&id
 =1742:earth-day-clothing-swap-by-the-swap-club\n
DTSTART:20260421T170000Z
DTEND:20260421T200000Z
LOCATION: Zoku Amsterdam\,Weesperstraat 105\,1018 VN Amsterdam\,Netherlands
SUMMARY:Earth Day Clothing Swap by The Swap Club
URL:https://www.ecoduurzaam.nl/index.php?option=com_jem&view=event&id=1742:
 earth-day-clothing-swap-by-the-swap-club
END:VEVENT
END:VCALENDAR