BEGIN:VCALENDAR
VERSION:2.0
PRODID:-//185.158.164.61//NONSGML kigkonsult.se iCalcreator 2.20//
CALSCALE:GREGORIAN
METHOD:PUBLISH
X-WR-TIMEZONE:UTC
BEGIN:VEVENT
UID:event1752@Ecoduurzaam, duurzaam leven, groen genieten
DTSTAMP:20260422T165755Z
CATEGORIES:Kledingruil
DESCRIPTION:Clothingloop x Paleis het Loo\nCategorie: Kledingruil\nLink: ht
 tps://www.ecoduurzaam.nl/index.php?option=com_jem&view=event&id=1752:cloth
 ingloop-x-paleis-het-loo\n
DTSTART:20260502T100000Z
DTEND:20260502T160000Z
LOCATION:Paleis het Loo\,Koninklijk Park 1\,\,7315 JA Apeldoorn
SUMMARY:Clothingloop x Paleis het Loo
URL:https://www.ecoduurzaam.nl/index.php?option=com_jem&view=event&id=1752:
 clothingloop-x-paleis-het-loo
END:VEVENT
END:VCALENDAR