BEGIN:VCALENDAR
VERSION:2.0
PRODID:-//185.158.164.61//NONSGML kigkonsult.se iCalcreator 2.20//
CALSCALE:GREGORIAN
METHOD:PUBLISH
X-WR-TIMEZONE:UTC
BEGIN:VEVENT
UID:event1745@Ecoduurzaam, duurzaam leven, groen genieten
DTSTAMP:20260420T222716Z
CATEGORIES:zero waste festival
DESCRIPTION:Het Zero Waste Festival  Breda\nCategorie: zero waste festival
 \nLink: https://www.ecoduurzaam.nl/index.php?option=com_jem&view=event&id=
 1745:het-zero-waste-festival-breda\n
DTSTART;VALUE=DATE:20260624
DTEND;VALUE=DATE:20260629
SUMMARY:Het Zero Waste Festival  Breda
URL:https://www.ecoduurzaam.nl/index.php?option=com_jem&view=event&id=1745:
 het-zero-waste-festival-breda
END:VEVENT
END:VCALENDAR