BEGIN:VCALENDAR
VERSION:2.0
PRODID:-//185.158.164.61//NONSGML kigkonsult.se iCalcreator 2.20//
CALSCALE:GREGORIAN
METHOD:PUBLISH
X-WR-TIMEZONE:UTC
BEGIN:VEVENT
UID:event1743@Ecoduurzaam, duurzaam leven, groen genieten
DTSTAMP:20260420T191718Z
CATEGORIES:Kledingruil
DESCRIPTION:Kledingruil: Tweede Kans op woensdag 22 april bij Cpunt\nCatego
 rie: Kledingruil\nLink: https://www.ecoduurzaam.nl/index.php?option=com_je
 m&view=event&id=1743:kledingruil-tweede-kans-op-woensdag-22-april-bij-cpun
 t\n
DTSTART:20260422T131500Z
DTEND:20260422T131500Z
LOCATION:Raadhuisplein 3\,Raadhuisplein 3\,2132 TZ   Hoofddorp
SUMMARY:Kledingruil: Tweede Kans op woensdag 22 april bij Cpunt
URL:https://www.ecoduurzaam.nl/index.php?option=com_jem&view=event&id=1743:
 kledingruil-tweede-kans-op-woensdag-22-april-bij-cpunt
END:VEVENT
END:VCALENDAR