BEGIN:VCALENDAR
VERSION:2.0
PRODID:-//185.158.164.61//NONSGML kigkonsult.se iCalcreator 2.20//
CALSCALE:GREGORIAN
METHOD:PUBLISH
X-WR-TIMEZONE:UTC
BEGIN:VEVENT
UID:event1300@Ecoduurzaam, duurzaam leven, groen genieten
DTSTAMP:20260419T122606Z
CATEGORIES:boerenmarkt\, biologische markt
DESCRIPTION:Duurzame Weekmarkt Eindhoven\nCategorie: boerenmarkt\, biologis
 che markt\nLink: https://www.ecoduurzaam.nl/index.php?option=com_jem&view=
 event&id=1300:duurzame-weekmarkt-eindhoven\n
DTSTART:20261219T100000Z
DTEND:20261219T160000Z
LOCATION:Wilhelminaplein Eindhoven\,Wilhelminaplein\,5611 JC Eindhoven
SUMMARY:Duurzame Weekmarkt Eindhoven
URL:https://www.ecoduurzaam.nl/index.php?option=com_jem&view=event&id=1300:
 duurzame-weekmarkt-eindhoven
END:VEVENT
END:VCALENDAR