BEGIN:VCALENDAR
VERSION:2.0
PRODID:-//185.158.164.61//NONSGML kigkonsult.se iCalcreator 2.20//
CALSCALE:GREGORIAN
METHOD:PUBLISH
X-WR-TIMEZONE:UTC
BEGIN:VEVENT
UID:event1279@Ecoduurzaam, duurzaam leven, groen genieten
DTSTAMP:20260419T133752Z
CATEGORIES:boerenmarkt
DESCRIPTION:Boerenmarkt Den Bosch\nCategorie: boerenmarkt\nLink: https://ww
 w.ecoduurzaam.nl/index.php?option=com_jem&view=event&id=1279:boerenmarkt-d
 en-bosch\n
DTSTART:20261211T090000Z
DTEND:20261211T130000Z
LOCATION:markt Den Bosch\,markt\,5211 GA  's-Hertogenbosch
SUMMARY:Boerenmarkt Den Bosch
URL:https://www.ecoduurzaam.nl/index.php?option=com_jem&view=event&id=1279:
 boerenmarkt-den-bosch
END:VEVENT
END:VCALENDAR