BEGIN:VCALENDAR
VERSION:2.0
PRODID:-//185.158.164.61//NONSGML kigkonsult.se iCalcreator 2.20//
CALSCALE:GREGORIAN
METHOD:PUBLISH
X-WR-TIMEZONE:UTC
BEGIN:VEVENT
UID:event1295@Ecoduurzaam, duurzaam leven, groen genieten
DTSTAMP:20260422T140850Z
CATEGORIES:Evenement
DESCRIPTION:Dag van de Aarde\nCategorie: Evenement\nLink: https://www.ecodu
 urzaam.nl/index.php?option=com_jem&view=event&id=1295:dag-van-de-aarde\n
DTSTART:20260422T000000Z
DTEND:20260422T235900Z
SUMMARY:Dag van de Aarde
URL:https://www.ecoduurzaam.nl/index.php?option=com_jem&view=event&id=1295:
 dag-van-de-aarde
END:VEVENT
END:VCALENDAR